Workbook

Sheet Deputatsnachweis
A1: Deputatsnachweis
A2: von Professorinnen und Professoren und Lehrkräften für besondere Aufgaben
I3: Hinweise
A4: Semester | B4: Fachbereich | I4: - nur die gelben Felder sind auszufüllen
I5: - nur Zahlen eingeben; die Einheit "SWS" wird automatisch generiert
I6: - Betreuungsleistungen bitte auf dem zweiten Tabellenblatt erfassen
A7: Name | B7: Vorname | E7: Akad. Grad | G7: Amtsbezeichnung | I7: - Begründungen für Berechnungen in Anlage 2 erfassen
I8: - bitte nach Semesterende beide Tabellenblätter ausdrucken
I9: - Abgabe der drei Seiten in Papierform und mit Unterschrift im Dekanat innerhalb von vier Wochen nach Semetsrerende
A10: Regeldeputat nach HLehrVO
A12: Ermäßigungen | B12: Gem. Schreiben vom | G12: Anzahl SWS
A18: Summe Deputatsermäßigungen | G18: =SUM(G13:G17) -> 0
A20: Übertrag aus dem letzten Semester zur Anrechnung auf des Regeldeputat | I20: aus dem Vorsemester erstes Tabellenblatt Zeile 50
A22: Deputat (Soll) | G22: =G10-G18-G20 -> 0
A24: Lehrveranstaltungen | B24: Im Fachbereich | C24: SWS laut Lehrplanung (Soll) | D24: Minder-aufwand / Ausfall | E24: Anrechnung trotz Ausfall bzw. Ersatz-veranstaltung | F24: Erstellung von digitalen Lehr-Lern-Angeboten | G24: anzurechnende Anzahl SWS | I24: Hinweise für Hinzurechnungen und Abzüge
D25: Erläuterungen siehe Anlage 2
G26: =C26+D26+E26+F26 -> 0 | I26: Beispiele für Minderaufwand
G27: =C27+D27+E27+F27 -> 0 | I27: Einzügigkeit statt Mehrzügigkeit
G28: =C28+D28+E28+F28 -> 0 | I28: Kombinierte Veranstaltung aus Vorlesung und Übung, wobei die Übung corona-bedingt ausgefallen ist
G29: =C29+D29+E29+F29 -> 0 | I29: ausgefallene Lehrveranstaltungen, die nicht nachgeholt oder anders kompensiert wurden
G30: =C30+D30+E30+F30 -> 0
G31: =C31+D31+E31+F31 -> 0 | I31: Beispiele für Anrechnung trotz Ausfall
G32: =C32+D32+E32+F32 -> 0 | I32: aufgrund der Corona-Verordnung untersagte Lehrveranstaltung
G33: =C33+D33+E33+F33 -> 0 | I33: längerfristig nicht nutzbares Labor aufgrund äußerer Umstände
G34: =C34+D34+E34+F34 -> 0
G35: =C35+D35+E35+F35 -> 0 | I35: Erstellung digitalen Lehr-Lern-Angeboten (bitte immer mit Links)
G36: =C36+D36+E36+F36 -> 0 | I36: nachhaltiges Angebot (längerfristig abrufbares Abgebot) im Bereich der digitalen Lehre
G37: =C37+D37+E37+F37 -> 0 | I37: Beispiele für Hinzurechnungen
G38: =C38+D38+E38+F38 -> 0 | I38: Flipped-Classroom-Inhalte;
G39: =C39+D39+E39+F39 -> 0 | I39: (interaktive) Übungsmöglichkeiten;
G40: =C40+D40+E40+F40 -> 0 | I40: Virtuelle Labore und Remote Labs;
A41: Summe der abzurechnenden SWS | G41: =SUM(G26:G40) -> 0 | I41: kein zusätzlicher Aufwand:
I42: reine Online-Vorlesung; alle durch Zuarbeit (z.B. durch Assistent*innen) entstandene Inhalte
A43: Betreuungsleistung (siehe Anlage 1)
A44: in diesem Semester anrechenbare Betreuungsleistung: | G44: ='Anlage1 Deputatsnachweis'!D16 -> 0
A46: Lehr- und Betreuungsleistung (Ist) | G46: =G41+G44 -> 0
A48: Deputat (Soll) | G48: =G22 -> 0
A49: Deputatserfüllung: Lehr- und Betreuungsleistung (Ist) | G49: =G46 -> 0
A50: Übertrag in das nächste Semester zur Anrechnung auf das Regeldeputat | D50: =IF(G50=0,"exakte Deputatserfüllung", IF(G50>0,"Überdeputat","Unterdeputat")) -> exakte Deputatserfüllung | G50: =G49-G48 -> 0 | I50: im Folgesemster im ersten Tabellenblatt, Zeile 20, erfassen
A51: Übertrag in das nächste Semester zur Anrechnung bei den Betreuungsleistungen (maximal 1 SWS) | G51: ='Anlage1 Deputatsnachweis'!D17 -> 0 | I51: im Folgesemster im zweiten Tabellenblatt, Zeile 15, erfassen
...

Sheet Anlage1 Deputatsnachweis
A1: Anlage 1 zum Deputatsnachweis
G2: Hinweise zur Anlage 1
A3: Semester | B3: Fachbereich | G3: - nur die gelben Felder sind auszufüllen
A4: =Deputatsnachweis!A5 -> 0 | B4: =Deputatsnachweis!B5 -> 0 | G4: - Betreuungsleistungen bitte auf dem zweiten Tabellenblatt erfassen
G5: - bitte der ersten Seite als Anlage ausgedruckt beifügen
A6: =Deputatsnachweis!A7 -> Name | B6: =Deputatsnachweis!B7 -> Vorname | C6: =Deputatsnachweis!E7 -> Akad. Grad | D6: =Deputatsnachweis!G7 -> Amtsbezeichnung
A7: =Deputatsnachweis!A8 -> 0 | B7: =Deputatsnachweis!B8 -> 0 | C7: =Deputatsnachweis!E8 -> 0 | D7: =Deputatsnachweis!G8 -> 0
A9: Anrechnung der Praxis- und Abschlussarbeiten
A10: Bachelor / Master
A11: Anzahl der betreuten Praxisarbeiten: | B11: =B60 -> 0 | C11: x 0,20 SWS | D11: =B11*0.2 -> 0
A12: Anzahl der betreuten Bachelorarbeiten: | B12: =C60 -> 0 | C12: x 0,30 SWS | D12: =B12*0.3 -> 0
A13: Anzahl der betreuten Masterarbeiten: | B13: =D60 -> 0 | C13: x 0,40 SWS | D13: =B13*0.4 -> 0
A14: Summe der Betreuungsleitung für studentische Arbeiten | D14: =SUM(D11:D13) -> 0
A15: Übertrag aus dem letzten Semester zur Anrechnung bei den Betreuungsleistungen | G15: aus dem Vorsemester erstes Tabellenblatt Zeile 51
A16: davon in diesem Semester anrechenbar (maximal 2 SWS) | D16: =IF((D14+D15)>=2,2,(D14+D15)) -> 0
A17: davon in das nächste Semester zur Anrechnung bei den Betreuungsleistungen übertragbar (maximal 1 SWS) | D17: =IF(D14+D15>=3,1,D14+D15-D16) -> 0
A19: Liste der betreuten studentischen Arbeiten | B19: Art der betreuten Arbeit (bitte mit "x" kennzeichnen)
A20: (nur Erst-Betreuungen) | B20: Bachelor/Master | E20: Anrechnung
A21: Matrikelnummer (mit/ohne Name, Vorname) | B21: Praxis | C21: Bachelor | D21: Master
E22: nein
E23: =IF(COUNTA(B23:D23)>0,"ja"," ")
E24: =IF(COUNTA(B24:D24)>0,"ja"," ")
E25: =IF(COUNTA(B25:D25)>0,"ja"," ")
E26: =IF(COUNTA(B26:D26)>0,"ja"," ")
E27: =IF(COUNTA(B27:D27)>0,"ja"," ")
E28: =IF(COUNTA(B28:D28)>0,"ja"," ")
E29: =IF(COUNTA(B29:D29)>0,"ja"," ")
E30: =IF(COUNTA(B30:D30)>0,"ja"," ")
E31: =IF(COUNTA(B31:D31)>0,"ja"," ")
E32: =IF(COUNTA(B32:D32)>0,"ja"," ")
E33: =IF(COUNTA(B33:D33)>0,"ja"," ")
E34: =IF(COUNTA(B34:D34)>0,"ja"," ")
... E59: =IF(COUNTA(B59:D59)>0,"ja"," ")
A60: Anzahl deputatswirksamer Betreuungsleistungen | B60: =COUNTA(B23:B59) -> 0 | C60: =COUNTA(C23:C59) -> 0 | D60: =COUNTA(D23:D59) -> 0

Sheet Anlage 2 Begründung
A1: Anlage 2 zum Deputatsnachweis
A2: von Professorinnen und Professoren und Lehrkräften für besondere Aufgaben
I3: Hinweise zur Anlage 2
A4: Semester | B4: Fachbereich | I4: - nur die gelben Felder sind auszufüllen
A5: =Deputatsnachweis!A5 -> 0 | B5: =Deputatsnachweis!B5 -> 0 | I5: - bitte der ersten Seite als Anlage ausgedruckt beifügen
A7: Name | B7: Vorname | E7: Akad. Grad | G7: Amtsbezeichnung
A8: =Deputatsnachweis!A8 -> 0 | B8: =Deputatsnachweis!B8 -> 0 | E8: =Deputatsnachweis!E8 -> 0 | G8: =Deputatsnachweis!G8 -> 0
A10: Lehrveranstaltungen | B10: Im Fachbereich | C10: SWS laut Lehrplanung (Soll) | D10: Minder-aufwand / Ausfall | E10: Anrechnung trotz Ausfall bzw. Ersatz-veranstaltung | F10: Erstellung von digitalen Lehr-Lern-Angeboten | G10: anzurechnende Anzahl SWS | I10: Hinweise für Hinzurechnungen und Abzüge
A11: =IF(Deputatsnachweis!A26<>0,Deputatsnachweis!A26,"") | B11: =IF(Deputatsnachweis!B26<>0,Deputatsnachweis!B26,"") | C11: =IF(Deputatsnachweis!C26<>0,Deputatsnachweis!C26,"") | D11: =IF(Deputatsnachweis!D26<>0,Deputatsnachweis!D26,"") | E11: =IF(Deputatsnachweis!E26<>0,Deputatsnachweis!E26,"") | F11: =IF(Deputatsnachweis!F26<>0,Deputatsnachweis!F26,"") | G11: =IF(Deputatsnachweis!G26<>0,Deputatsnachweis!G26,"") | I11: Beispiele für Minderaufwand
A12: =IF(Deputatsnachweis!A27<>0,Deputatsnachweis!A27,"") | B12: =IF(Deputatsnachweis!B27<>0,Deputatsnachweis!B27,"") | C12: =IF(Deputatsnachweis!C27<>0,Deputatsnachweis!C27,"") | D12: =IF(Deputatsnachweis!D27<>0,Deputatsnachweis!D27,"") | E12: =IF(Deputatsnachweis!E27<>0,Deputatsnachweis!E27,"") | F12: =IF(Deputatsnachweis!F27<>0,Deputatsnachweis!F27,"") | G12: =IF(Deputatsnachweis!G27<>0,Deputatsnachweis!G27,"") | I12: Einzügigkeit statt Mehrzügigkeit
A13: =IF(Deputatsnachweis!A28<>0,Deputatsnachweis!A28,"") | B13: =IF(Deputatsnachweis!B28<>0,Deputatsnachweis!B28,"") | C13: =IF(Deputatsnachweis!C28<>0,Deputatsnachweis!C28,"") | D13: =IF(Deputatsnachweis!D28<>0,Deputatsnachweis!D28,"") | E13: =IF(Deputatsnachweis!E28<>0,Deputatsnachweis!E28,"") | F13: =IF(Deputatsnachweis!F28<>0,Deputatsnachweis!F28,"") | G13: =IF(Deputatsnachweis!G28<>0,Deputatsnachweis!G28,"") | I13: Kombinierte Veranstaltung aus Vorlesung und Übung, wobei die Übung corona-bedingt ausgefallen ist
A14: =IF(Deputatsnachweis!A29<>0,Deputatsnachweis!A29,"") | B14: =IF(Deputatsnachweis!B29<>0,Deputatsnachweis!B29,"") | C14: =IF(Deputatsnachweis!C29<>0,Deputatsnachweis!C29,"") | D14: =IF(Deputatsnachweis!D29<>0,Deputatsnachweis!D29,"") | E14: =IF(Deputatsnachweis!E29<>0,Deputatsnachweis!E29,"") | F14: =IF(Deputatsnachweis!F29<>0,Deputatsnachweis!F29,"") | G14: =IF(Deputatsnachweis!G29<>0,Deputatsnachweis!G29,"") | I14: ausgefallene Lehrveranstaltungen, die nicht nachgeholt oder anders kompensiert wurden
A15: =IF(Deputatsnachweis!A30<>0,Deputatsnachweis!A30,"") | B15: =IF(Deputatsnachweis!B30<>0,Deputatsnachweis!B30,"") | C15: =IF(Deputatsnachweis!C30<>0,Deputatsnachweis!C30,"") | D15: =IF(Deputatsnachweis!D30<>0,Deputatsnachweis!D30,"") | E15: =IF(Deputatsnachweis!E30<>0,Deputatsnachweis!E30,"") | F15: =IF(Deputatsnachweis!F30<>0,Deputatsnachweis!F30,"") | G15: =IF(Deputatsnachweis!G30<>0,Deputatsnachweis!G30,"")
A16: =IF(Deputatsnachweis!A31<>0,Deputatsnachweis!A31,"") | B16: =IF(Deputatsnachweis!B31<>0,Deputatsnachweis!B31,"") | C16: =IF(Deputatsnachweis!C31<>0,Deputatsnachweis!C31,"") | D16: =IF(Deputatsnachweis!D31<>0,Deputatsnachweis!D31,"") | E16: =IF(Deputatsnachweis!E31<>0,Deputatsnachweis!E31,"") | F16: =IF(Deputatsnachweis!F31<>0,Deputatsnachweis!F31,"") | G16: =IF(Deputatsnachweis!G31<>0,Deputatsnachweis!G31,"") | I16: Beispiele für Anrechnung trotz Ausfall
A17: =IF(Deputatsnachweis!A32<>0,Deputatsnachweis!A32,"") | B17: =IF(Deputatsnachweis!B32<>0,Deputatsnachweis!B32,"") | C17: =IF(Deputatsnachweis!C32<>0,Deputatsnachweis!C32,"") | D17: =IF(Deputatsnachweis!D32<>0,Deputatsnachweis!D32,"") | E17: =IF(Deputatsnachweis!E32<>0,Deputatsnachweis!E32,"") | F17: =IF(Deputatsnachweis!F32<>0,Deputatsnachweis!F32,"") | G17: =IF(Deputatsnachweis!G32<>0,Deputatsnachweis!G32,"") | I17: aufgrund der Corona-Verordnung untersagte Lehrveranstaltung
A18: =IF(Deputatsnachweis!A33<>0,Deputatsnachweis!A33,"") | B18: =IF(Deputatsnachweis!B33<>0,Deputatsnachweis!B33,"") | C18: =IF(Deputatsnachweis!C33<>0,Deputatsnachweis!C33,"") | D18: =IF(Deputatsnachweis!D33<>0,Deputatsnachweis!D33,"") | E18: =IF(Deputatsnachweis!E33<>0,Deputatsnachweis!E33,"") | F18: =IF(Deputatsnachweis!F33<>0,Deputatsnachweis!F33,"") | G18: =IF(Deputatsnachweis!G33<>0,Deputatsnachweis!G33,"") | I18: längerfristig nicht nutzbares Labor aufgrund äußerer Umstände
A19: =IF(Deputatsnachweis!A34<>0,Deputatsnachweis!A34,"") | B19: =IF(Deputatsnachweis!B34<>0,Deputatsnachweis!B34,"") | C19: =IF(Deputatsnachweis!C34<>0,Deputatsnachweis!C34,"") | D19: =IF(Deputatsnachweis!D34<>0,Deputatsnachweis!D34,"") | E19: =IF(Deputatsnachweis!E34<>0,Deputatsnachweis!E34,"") | F19: =IF(Deputatsnachweis!F34<>0,Deputatsnachweis!F34,"") | G19: =IF(Deputatsnachweis!G34<>0,Deputatsnachweis!G34,"")
A20: =IF(Deputatsnachweis!A35<>0,Deputatsnachweis!A35,"") | B20: =IF(Deputatsnachweis!B35<>0,Deputatsnachweis!B35,"") | C20: =IF(Deputatsnachweis!C35<>0,Deputatsnachweis!C35,"") | D20: =IF(Deputatsnachweis!D35<>0,Deputatsnachweis!D35,"") | E20: =IF(Deputatsnachweis!E35<>0,Deputatsnachweis!E35,"") | F20: =IF(Deputatsnachweis!F35<>0,Deputatsnachweis!F35,"") | G20: =IF(Deputatsnachweis!G35<>0,Deputatsnachweis!G35,"") | I20: Erstellung digitalen Lehr-Lern-Angeboten (bitte immer mit Links)
A21: =IF(Deputatsnachweis!A36<>0,Deputatsnachweis!A36,"") | B21: =IF(Deputatsnachweis!B36<>0,Deputatsnachweis!B36,"") | C21: =IF(Deputatsnachweis!C36<>0,Deputatsnachweis!C36,"") | D21: =IF(Deputatsnachweis!D36<>0,Deputatsnachweis!D36,"") | E21: =IF(Deputatsnachweis!E36<>0,Deputatsnachweis!E36,"") | F21: =IF(Deputatsnachweis!F36<>0,Deputatsnachweis!F36,"") | G21: =IF(Deputatsnachweis!G36<>0,Deputatsnachweis!G36,"") | I21: nachhaltiges Angebot (längerfristig abrufbares Abgebot) im Bereich der digitalen Lehre
A22: =IF(Deputatsnachweis!A37<>0,Deputatsnachweis!A37,"") | B22: =IF(Deputatsnachweis!B37<>0,Deputatsnachweis!B37,"") | C22: =IF(Deputatsnachweis!C37<>0,Deputatsnachweis!C37,"") | D22: =IF(Deputatsnachweis!D37<>0,Deputatsnachweis!D37,"") | E22: =IF(Deputatsnachweis!E37<>0,Deputatsnachweis!E37,"") | F22: =IF(Deputatsnachweis!F37<>0,Deputatsnachweis!F37,"") | G22: =IF(Deputatsnachweis!G37<>0,Deputatsnachweis!G37,"") | I22: Beispiele für Hinzurechnungen
A23: =IF(Deputatsnachweis!A38<>0,Deputatsnachweis!A38,"") | B23: =IF(Deputatsnachweis!B38<>0,Deputatsnachweis!B38,"") | C23: =IF(Deputatsnachweis!C38<>0,Deputatsnachweis!C38,"") | D23: =IF(Deputatsnachweis!D38<>0,Deputatsnachweis!D38,"") | E23: =IF(Deputatsnachweis!E38<>0,Deputatsnachweis!E38,"") | F23: =IF(Deputatsnachweis!F38<>0,Deputatsnachweis!F38,"") | G23: =IF(Deputatsnachweis!G38<>0,Deputatsnachweis!G38,"") | I23: Flipped-Classroom-Inhalte;
A24: =IF(Deputatsnachweis!A39<>0,Deputatsnachweis!A39,"") | B24: =IF(Deputatsnachweis!B39<>0,Deputatsnachweis!B39,"") | C24: =IF(Deputatsnachweis!C39<>0,Deputatsnachweis!C39,"") | D24: =IF(Deputatsnachweis!D39<>0,Deputatsnachweis!D39,"") | E24: =IF(Deputatsnachweis!E39<>0,Deputatsnachweis!E39,"") | F24: =IF(Deputatsnachweis!F39<>0,Deputatsnachweis!F39,"") | G24: =IF(Deputatsnachweis!G39<>0,Deputatsnachweis!G39,"") | I24: (interaktive) Übungsmöglichkeiten;
A25: =IF(Deputatsnachweis!A40<>0,Deputatsnachweis!A40,"") | B25: =IF(Deputatsnachweis!B40<>0,Deputatsnachweis!B40,"") | C25: =IF(Deputatsnachweis!C40<>0,Deputatsnachweis!C40,"") | D25: =IF(Deputatsnachweis!D40<>0,Deputatsnachweis!D40,"") | E25: =IF(Deputatsnachweis!E40<>0,Deputatsnachweis!E40,"") | F25: =IF(Deputatsnachweis!F40<>0,Deputatsnachweis!F40,"") | G25: =IF(Deputatsnachweis!G40<>0,Deputatsnachweis!G40,"") | I25: Virtuelle Labore und Remote Labs;
A26: Summe der anzurechnenden SWS | G26: =SUM(G11:G25) -> 0 | I26: kein zusätzlicher Aufwand:
I27: reine Online-Vorlesung; alle durch Zuarbeit (z.B. durch Assistent*innen) entstandene Inhalte
A28: Begründung bei Minderaufwand, Ausfall, Anrechnung trotzt Ausfall und Erstellung von digitalen Lehr-Lern-Angeboten (für einzelne Veranstaltung mit ergänzenden Berechnungen)
